Workbook

Sheet PTO log
A1: Employee | B1: Department | C1: Leave type | D1: Start date | E1: End date | F1: Half day? | G1: Working days | H1: Status | I1: Notes
A2: Greta Vogel | B2: Operations | C2: PTO | D2: 46209 | E2: 46213 | F2: No | G2: =IF(OR(D2="",E2=""),"",NETWORKDAYS(D2,E2,Holidays!$A$2:$A$200)-IF(F2="Yes",0.5,0)) | H2: Approved | I2: Summer holiday
A3: Tom Becker | B3: Engineering | C3: Sick leave | D3: 46217 | E3: 46217 | F3: No | G3: =IF(OR(D3="",E3=""),"",NETWORKDAYS(D3,E3,Holidays!$A$2:$A$200)-IF(F3="Yes",0.5,0)) | H3: Approved
A4: Sara Lind | B4: Engineering | C4: PTO | D4: 46237 | E4: 46248 | F4: No | G4: =IF(OR(D4="",E4=""),"",NETWORKDAYS(D4,E4,Holidays!$A$2:$A$200)-IF(F4="Yes",0.5,0)) | H4: Pending | I4: Awaiting cover
A5: Greta Vogel | B5: Operations | C5: PTO | D5: 46227 | E5: 46227 | F5: Yes | G5: =IF(OR(D5="",E5=""),"",NETWORKDAYS(D5,E5,Holidays!$A$2:$A$200)-IF(F5="Yes",0.5,0)) | H5: Approved | I5: Afternoon off
G6: =IF(OR(D6="",E6=""),"",NETWORKDAYS(D6,E6,Holidays!$A$2:$A$200)-IF(F6="Yes",0.5,0))
G7: =IF(OR(D7="",E7=""),"",NETWORKDAYS(D7,E7,Holidays!$A$2:$A$200)-IF(F7="Yes",0.5,0))
G8: =IF(OR(D8="",E8=""),"",NETWORKDAYS(D8,E8,Holidays!$A$2:$A$200)-IF(F8="Yes",0.5,0))
G9: =IF(OR(D9="",E9=""),"",NETWORKDAYS(D9,E9,Holidays!$A$2:$A$200)-IF(F9="Yes",0.5,0))
G10: =IF(OR(D10="",E10=""),"",NETWORKDAYS(D10,E10,Holidays!$A$2:$A$200)-IF(F10="Yes",0.5,0))
G11: =IF(OR(D11="",E11=""),"",NETWORKDAYS(D11,E11,Holidays!$A$2:$A$200)-IF(F11="Yes",0.5,0))
G12: =IF(OR(D12="",E12=""),"",NETWORKDAYS(D12,E12,Holidays!$A$2:$A$200)-IF(F12="Yes",0.5,0))
G13: =IF(OR(D13="",E13=""),"",NETWORKDAYS(D13,E13,Holidays!$A$2:$A$200)-IF(F13="Yes",0.5,0))
G14: =IF(OR(D14="",E14=""),"",NETWORKDAYS(D14,E14,Holidays!$A$2:$A$200)-IF(F14="Yes",0.5,0))
G15: =IF(OR(D15="",E15=""),"",NETWORKDAYS(D15,E15,Holidays!$A$2:$A$200)-IF(F15="Yes",0.5,0))
G16: =IF(OR(D16="",E16=""),"",NETWORKDAYS(D16,E16,Holidays!$A$2:$A$200)-IF(F16="Yes",0.5,0))
G17: =IF(OR(D17="",E17=""),"",NETWORKDAYS(D17,E17,Holidays!$A$2:$A$200)-IF(F17="Yes",0.5,0))
... G300: =IF(OR(D300="",E300=""),"",NETWORKDAYS(D300,E300,Holidays!$A$2:$A$200)-IF(F300="Yes",0.5,0))

Sheet Balances
A1: Employee | B1: PTO allowance | C1: Carried over | D1: Taken | E1: Pending | F1: Remaining | G1: Sick days
A2: Greta Vogel | B2: 25 | C2: 2 | D2: =IF($A2="","",SUMIFS('PTO log'!$G:$G,'PTO log'!$A:$A,$A2,'PTO log'!$C:$C,"PTO",'PTO log'!$H:$H,"Approved",'PTO log'!$D:$D,">="&Settings!$B$2,'PTO log'!$D:$D,"<"&EDATE(Settings!$B$2,12))) | E2: =IF($A2="","",SUMIFS('PTO log'!$G:$G,'PTO log'!$A:$A,$A2,'PTO log'!$C:$C,"PTO",'PTO log'!$H:$H,"Pending",'PTO log'!$D:$D,">="&Settings!$B$2,'PTO log'!$D:$D,"<"&EDATE(Settings!$B$2,12))) | F2: =IF($A2="","",B2+C2-D2) | G2: =IF($A2="","",SUMIFS('PTO log'!$G:$G,'PTO log'!$A:$A,$A2,'PTO log'!$C:$C,"Sick leave",'PTO log'!$H:$H,"Approved",'PTO log'!$D:$D,">="&Settings!$B$2,'PTO log'!$D:$D,"<"&EDATE(Settings!$B$2,12)))
A3: Tom Becker | B3: 25 | C3: 0 | D3: =IF($A3="","",SUMIFS('PTO log'!$G:$G,'PTO log'!$A:$A,$A3,'PTO log'!$C:$C,"PTO",'PTO log'!$H:$H,"Approved",'PTO log'!$D:$D,">="&Settings!$B$2,'PTO log'!$D:$D,"<"&EDATE(Settings!$B$2,12))) | E3: =IF($A3="","",SUMIFS('PTO log'!$G:$G,'PTO log'!$A:$A,$A3,'PTO log'!$C:$C,"PTO",'PTO log'!$H:$H,"Pending",'PTO log'!$D:$D,">="&Settings!$B$2,'PTO log'!$D:$D,"<"&EDATE(Settings!$B$2,12))) | F3: =IF($A3="","",B3+C3-D3) | G3: =IF($A3="","",SUMIFS('PTO log'!$G:$G,'PTO log'!$A:$A,$A3,'PTO log'!$C:$C,"Sick leave",'PTO log'!$H:$H,"Approved",'PTO log'!$D:$D,">="&Settings!$B$2,'PTO log'!$D:$D,"<"&EDATE(Settings!$B$2,12)))
A4: Sara Lind | B4: 20 | C4: 0 | D4: =IF($A4="","",SUMIFS('PTO log'!$G:$G,'PTO log'!$A:$A,$A4,'PTO log'!$C:$C,"PTO",'PTO log'!$H:$H,"Approved",'PTO log'!$D:$D,">="&Settings!$B$2,'PTO log'!$D:$D,"<"&EDATE(Settings!$B$2,12))) | E4: =IF($A4="","",SUMIFS('PTO log'!$G:$G,'PTO log'!$A:$A,$A4,'PTO log'!$C:$C,"PTO",'PTO log'!$H:$H,"Pending",'PTO log'!$D:$D,">="&Settings!$B$2,'PTO log'!$D:$D,"<"&EDATE(Settings!$B$2,12))) | F4: =IF($A4="","",B4+C4-D4) | G4: =IF($A4="","",SUMIFS('PTO log'!$G:$G,'PTO log'!$A:$A,$A4,'PTO log'!$C:$C,"Sick leave",'PTO log'!$H:$H,"Approved",'PTO log'!$D:$D,">="&Settings!$B$2,'PTO log'!$D:$D,"<"&EDATE(Settings!$B$2,12)))
D5: =IF($A5="","",SUMIFS('PTO log'!$G:$G,'PTO log'!$A:$A,$A5,'PTO log'!$C:$C,"PTO",'PTO log'!$H:$H,"Approved",'PTO log'!$D:$D,">="&Settings!$B$2,'PTO log'!$D:$D,"<"&EDATE(Settings!$B$2,12))) | E5: =IF($A5="","",SUMIFS('PTO log'!$G:$G,'PTO log'!$A:$A,$A5,'PTO log'!$C:$C,"PTO",'PTO log'!$H:$H,"Pending",'PTO log'!$D:$D,">="&Settings!$B$2,'PTO log'!$D:$D,"<"&EDATE(Settings!$B$2,12))) | F5: =IF($A5="","",B5+C5-D5) | G5: =IF($A5="","",SUMIFS('PTO log'!$G:$G,'PTO log'!$A:$A,$A5,'PTO log'!$C:$C,"Sick leave",'PTO log'!$H:$H,"Approved",'PTO log'!$D:$D,">="&Settings!$B$2,'PTO log'!$D:$D,"<"&EDATE(Settings!$B$2,12)))
D6: =IF($A6="","",SUMIFS('PTO log'!$G:$G,'PTO log'!$A:$A,$A6,'PTO log'!$C:$C,"PTO",'PTO log'!$H:$H,"Approved",'PTO log'!$D:$D,">="&Settings!$B$2,'PTO log'!$D:$D,"<"&EDATE(Settings!$B$2,12))) | E6: =IF($A6="","",SUMIFS('PTO log'!$G:$G,'PTO log'!$A:$A,$A6,'PTO log'!$C:$C,"PTO",'PTO log'!$H:$H,"Pending",'PTO log'!$D:$D,">="&Settings!$B$2,'PTO log'!$D:$D,"<"&EDATE(Settings!$B$2,12))) | F6: =IF($A6="","",B6+C6-D6) | G6: =IF($A6="","",SUMIFS('PTO log'!$G:$G,'PTO log'!$A:$A,$A6,'PTO log'!$C:$C,"Sick leave",'PTO log'!$H:$H,"Approved",'PTO log'!$D:$D,">="&Settings!$B$2,'PTO log'!$D:$D,"<"&EDATE(Settings!$B$2,12)))
D7: =IF($A7="","",SUMIFS('PTO log'!$G:$G,'PTO log'!$A:$A,$A7,'PTO log'!$C:$C,"PTO",'PTO log'!$H:$H,"Approved",'PTO log'!$D:$D,">="&Settings!$B$2,'PTO log'!$D:$D,"<"&EDATE(Settings!$B$2,12))) | E7: =IF($A7="","",SUMIFS('PTO log'!$G:$G,'PTO log'!$A:$A,$A7,'PTO log'!$C:$C,"PTO",'PTO log'!$H:$H,"Pending",'PTO log'!$D:$D,">="&Settings!$B$2,'PTO log'!$D:$D,"<"&EDATE(Settings!$B$2,12))) | F7: =IF($A7="","",B7+C7-D7) | G7: =IF($A7="","",SUMIFS('PTO log'!$G:$G,'PTO log'!$A:$A,$A7,'PTO log'!$C:$C,"Sick leave",'PTO log'!$H:$H,"Approved",'PTO log'!$D:$D,">="&Settings!$B$2,'PTO log'!$D:$D,"<"&EDATE(Settings!$B$2,12)))
D8: =IF($A8="","",SUMIFS('PTO log'!$G:$G,'PTO log'!$A:$A,$A8,'PTO log'!$C:$C,"PTO",'PTO log'!$H:$H,"Approved",'PTO log'!$D:$D,">="&Settings!$B$2,'PTO log'!$D:$D,"<"&EDATE(Settings!$B$2,12))) | E8: =IF($A8="","",SUMIFS('PTO log'!$G:$G,'PTO log'!$A:$A,$A8,'PTO log'!$C:$C,"PTO",'PTO log'!$H:$H,"Pending",'PTO log'!$D:$D,">="&Settings!$B$2,'PTO log'!$D:$D,"<"&EDATE(Settings!$B$2,12))) | F8: =IF($A8="","",B8+C8-D8) | G8: =IF($A8="","",SUMIFS('PTO log'!$G:$G,'PTO log'!$A:$A,$A8,'PTO log'!$C:$C,"Sick leave",'PTO log'!$H:$H,"Approved",'PTO log'!$D:$D,">="&Settings!$B$2,'PTO log'!$D:$D,"<"&EDATE(Settings!$B$2,12)))
D9: =IF($A9="","",SUMIFS('PTO log'!$G:$G,'PTO log'!$A:$A,$A9,'PTO log'!$C:$C,"PTO",'PTO log'!$H:$H,"Approved",'PTO log'!$D:$D,">="&Settings!$B$2,'PTO log'!$D:$D,"<"&EDATE(Settings!$B$2,12))) | E9: =IF($A9="","",SUMIFS('PTO log'!$G:$G,'PTO log'!$A:$A,$A9,'PTO log'!$C:$C,"PTO",'PTO log'!$H:$H,"Pending",'PTO log'!$D:$D,">="&Settings!$B$2,'PTO log'!$D:$D,"<"&EDATE(Settings!$B$2,12))) | F9: =IF($A9="","",B9+C9-D9) | G9: =IF($A9="","",SUMIFS('PTO log'!$G:$G,'PTO log'!$A:$A,$A9,'PTO log'!$C:$C,"Sick leave",'PTO log'!$H:$H,"Approved",'PTO log'!$D:$D,">="&Settings!$B$2,'PTO log'!$D:$D,"<"&EDATE(Settings!$B$2,12)))
D10: =IF($A10="","",SUMIFS('PTO log'!$G:$G,'PTO log'!$A:$A,$A10,'PTO log'!$C:$C,"PTO",'PTO log'!$H:$H,"Approved",'PTO log'!$D:$D,">="&Settings!$B$2,'PTO log'!$D:$D,"<"&EDATE(Settings!$B$2,12))) | E10: =IF($A10="","",SUMIFS('PTO log'!$G:$G,'PTO log'!$A:$A,$A10,'PTO log'!$C:$C,"PTO",'PTO log'!$H:$H,"Pending",'PTO log'!$D:$D,">="&Settings!$B$2,'PTO log'!$D:$D,"<"&EDATE(Settings!$B$2,12))) | F10: =IF($A10="","",B10+C10-D10) | G10: =IF($A10="","",SUMIFS('PTO log'!$G:$G,'PTO log'!$A:$A,$A10,'PTO log'!$C:$C,"Sick leave",'PTO log'!$H:$H,"Approved",'PTO log'!$D:$D,">="&Settings!$B$2,'PTO log'!$D:$D,"<"&EDATE(Settings!$B$2,12)))
D11: =IF($A11="","",SUMIFS('PTO log'!$G:$G,'PTO log'!$A:$A,$A11,'PTO log'!$C:$C,"PTO",'PTO log'!$H:$H,"Approved",'PTO log'!$D:$D,">="&Settings!$B$2,'PTO log'!$D:$D,"<"&EDATE(Settings!$B$2,12))) | E11: =IF($A11="","",SUMIFS('PTO log'!$G:$G,'PTO log'!$A:$A,$A11,'PTO log'!$C:$C,"PTO",'PTO log'!$H:$H,"Pending",'PTO log'!$D:$D,">="&Settings!$B$2,'PTO log'!$D:$D,"<"&EDATE(Settings!$B$2,12))) | F11: =IF($A11="","",B11+C11-D11) | G11: =IF($A11="","",SUMIFS('PTO log'!$G:$G,'PTO log'!$A:$A,$A11,'PTO log'!$C:$C,"Sick leave",'PTO log'!$H:$H,"Approved",'PTO log'!$D:$D,">="&Settings!$B$2,'PTO log'!$D:$D,"<"&EDATE(Settings!$B$2,12)))
D12: =IF($A12="","",SUMIFS('PTO log'!$G:$G,'PTO log'!$A:$A,$A12,'PTO log'!$C:$C,"PTO",'PTO log'!$H:$H,"Approved",'PTO log'!$D:$D,">="&Settings!$B$2,'PTO log'!$D:$D,"<"&EDATE(Settings!$B$2,12))) | E12: =IF($A12="","",SUMIFS('PTO log'!$G:$G,'PTO log'!$A:$A,$A12,'PTO log'!$C:$C,"PTO",'PTO log'!$H:$H,"Pending",'PTO log'!$D:$D,">="&Settings!$B$2,'PTO log'!$D:$D,"<"&EDATE(Settings!$B$2,12))) | F12: =IF($A12="","",B12+C12-D12) | G12: =IF($A12="","",SUMIFS('PTO log'!$G:$G,'PTO log'!$A:$A,$A12,'PTO log'!$C:$C,"Sick leave",'PTO log'!$H:$H,"Approved",'PTO log'!$D:$D,">="&Settings!$B$2,'PTO log'!$D:$D,"<"&EDATE(Settings!$B$2,12)))
D13: =IF($A13="","",SUMIFS('PTO log'!$G:$G,'PTO log'!$A:$A,$A13,'PTO log'!$C:$C,"PTO",'PTO log'!$H:$H,"Approved",'PTO log'!$D:$D,">="&Settings!$B$2,'PTO log'!$D:$D,"<"&EDATE(Settings!$B$2,12))) | E13: =IF($A13="","",SUMIFS('PTO log'!$G:$G,'PTO log'!$A:$A,$A13,'PTO log'!$C:$C,"PTO",'PTO log'!$H:$H,"Pending",'PTO log'!$D:$D,">="&Settings!$B$2,'PTO log'!$D:$D,"<"&EDATE(Settings!$B$2,12))) | F13: =IF($A13="","",B13+C13-D13) | G13: =IF($A13="","",SUMIFS('PTO log'!$G:$G,'PTO log'!$A:$A,$A13,'PTO log'!$C:$C,"Sick leave",'PTO log'!$H:$H,"Approved",'PTO log'!$D:$D,">="&Settings!$B$2,'PTO log'!$D:$D,"<"&EDATE(Settings!$B$2,12)))
D14: =IF($A14="","",SUMIFS('PTO log'!$G:$G,'PTO log'!$A:$A,$A14,'PTO log'!$C:$C,"PTO",'PTO log'!$H:$H,"Approved",'PTO log'!$D:$D,">="&Settings!$B$2,'PTO log'!$D:$D,"<"&EDATE(Settings!$B$2,12))) | E14: =IF($A14="","",SUMIFS('PTO log'!$G:$G,'PTO log'!$A:$A,$A14,'PTO log'!$C:$C,"PTO",'PTO log'!$H:$H,"Pending",'PTO log'!$D:$D,">="&Settings!$B$2,'PTO log'!$D:$D,"<"&EDATE(Settings!$B$2,12))) | F14: =IF($A14="","",B14+C14-D14) | G14: =IF($A14="","",SUMIFS('PTO log'!$G:$G,'PTO log'!$A:$A,$A14,'PTO log'!$C:$C,"Sick leave",'PTO log'!$H:$H,"Approved",'PTO log'!$D:$D,">="&Settings!$B$2,'PTO log'!$D:$D,"<"&EDATE(Settings!$B$2,12)))
D15: =IF($A15="","",SUMIFS('PTO log'!$G:$G,'PTO log'!$A:$A,$A15,'PTO log'!$C:$C,"PTO",'PTO log'!$H:$H,"Approved",'PTO log'!$D:$D,">="&Settings!$B$2,'PTO log'!$D:$D,"<"&EDATE(Settings!$B$2,12))) | E15: =IF($A15="","",SUMIFS('PTO log'!$G:$G,'PTO log'!$A:$A,$A15,'PTO log'!$C:$C,"PTO",'PTO log'!$H:$H,"Pending",'PTO log'!$D:$D,">="&Settings!$B$2,'PTO log'!$D:$D,"<"&EDATE(Settings!$B$2,12))) | F15: =IF($A15="","",B15+C15-D15) | G15: =IF($A15="","",SUMIFS('PTO log'!$G:$G,'PTO log'!$A:$A,$A15,'PTO log'!$C:$C,"Sick leave",'PTO log'!$H:$H,"Approved",'PTO log'!$D:$D,">="&Settings!$B$2,'PTO log'!$D:$D,"<"&EDATE(Settings!$B$2,12)))
D16: =IF($A16="","",SUMIFS('PTO log'!$G:$G,'PTO log'!$A:$A,$A16,'PTO log'!$C:$C,"PTO",'PTO log'!$H:$H,"Approved",'PTO log'!$D:$D,">="&Settings!$B$2,'PTO log'!$D:$D,"<"&EDATE(Settings!$B$2,12))) | E16: =IF($A16="","",SUMIFS('PTO log'!$G:$G,'PTO log'!$A:$A,$A16,'PTO log'!$C:$C,"PTO",'PTO log'!$H:$H,"Pending",'PTO log'!$D:$D,">="&Settings!$B$2,'PTO log'!$D:$D,"<"&EDATE(Settings!$B$2,12))) | F16: =IF($A16="","",B16+C16-D16) | G16: =IF($A16="","",SUMIFS('PTO log'!$G:$G,'PTO log'!$A:$A,$A16,'PTO log'!$C:$C,"Sick leave",'PTO log'!$H:$H,"Approved",'PTO log'!$D:$D,">="&Settings!$B$2,'PTO log'!$D:$D,"<"&EDATE(Settings!$B$2,12)))
... D51: =IF($A51="","",SUMIFS('PTO log'!$G:$G,'PTO log'!$A:$A,$A51,'PTO log'!$C:$C,"PTO",'PTO log'!$H:$H,"Approved",'PTO log'!$D:$D,">="&Settings!$B$2,'PTO log'!$D:$D,"<"&EDATE(Settings!$B$2,12))) | E51: =IF($A51="","",SUMIFS('PTO log'!$G:$G,'PTO log'!$A:$A,$A51,'PTO log'!$C:$C,"PTO",'PTO log'!$H:$H,"Pending",'PTO log'!$D:$D,">="&Settings!$B$2,'PTO log'!$D:$D,"<"&EDATE(Settings!$B$2,12))) | F51: =IF($A51="","",B51+C51-D51) | G51: =IF($A51="","",SUMIFS('PTO log'!$G:$G,'PTO log'!$A:$A,$A51,'PTO log'!$C:$C,"Sick leave",'PTO log'!$H:$H,"Approved",'PTO log'!$D:$D,">="&Settings!$B$2,'PTO log'!$D:$D,"<"&EDATE(Settings!$B$2,12)))

Sheet Holidays
A1: Date | B1: Holiday | D1: US federal holidays as observed (OPM). Replace them with your company holiday calendar.
A2: 46023 | B2: New Year's Day
A3: 46041 | B3: Birthday of Martin Luther King, Jr.
A4: 46069 | B4: Washington's Birthday
A5: 46167 | B5: Memorial Day
A6: 46192 | B6: Juneteenth National Independence Day
A7: 46206 | B7: Independence Day (observed)
A8: 46272 | B8: Labor Day
A9: 46307 | B9: Columbus Day
A10: 46337 | B10: Veterans Day
A11: 46352 | B11: Thanksgiving Day
A12: 46381 | B12: Christmas Day
A13: 46388 | B13: New Year's Day
... A23: 46745 | B23: Christmas Day (observed)

Sheet Settings
A1: Setting | B1: Value | C1: What it does
A2: Leave year starts | B2: 46023 | C2: Balances count leave starting in the 12 months from this date. Change it to your leave year, e.g. 1 April.

Sheet Lists
A1: Leave types | B1: Status | C1: Half day?
A2: PTO | B2: Pending | C2: No
A3: Sick leave | B3: Approved | C3: Yes
A4: Unpaid leave | B4: Declined
A5: Other
