Workbook

Sheet Leave log
A1: Employee | B1: Department | C1: Leave type | D1: Start date | E1: End date | F1: Half day? | G1: Working days | H1: Status | I1: Notes
A2: Greta Vogel | B2: Operations | C2: Annual leave | D2: 46209 | E2: 46213 | F2: No | G2: =IF(OR(D2="",E2=""),"",_xlfn.NETWORKDAYS.INTL(D2,E2,Settings!$B$3,Holidays!$A$2:$A$200)-IF(F2="Yes",0.5,0)) | H2: Approved | I2: Summer holiday
A3: Tom Becker | B3: Engineering | C3: Sick leave | D3: 46217 | E3: 46217 | F3: No | G3: =IF(OR(D3="",E3=""),"",_xlfn.NETWORKDAYS.INTL(D3,E3,Settings!$B$3,Holidays!$A$2:$A$200)-IF(F3="Yes",0.5,0)) | H3: Approved
A4: Sara Lind | B4: Engineering | C4: Annual leave | D4: 46237 | E4: 46248 | F4: No | G4: =IF(OR(D4="",E4=""),"",_xlfn.NETWORKDAYS.INTL(D4,E4,Settings!$B$3,Holidays!$A$2:$A$200)-IF(F4="Yes",0.5,0)) | H4: Pending | I4: Awaiting cover
A5: Greta Vogel | B5: Operations | C5: Annual leave | D5: 46227 | E5: 46227 | F5: Yes | G5: =IF(OR(D5="",E5=""),"",_xlfn.NETWORKDAYS.INTL(D5,E5,Settings!$B$3,Holidays!$A$2:$A$200)-IF(F5="Yes",0.5,0)) | H5: Approved | I5: Afternoon off
G6: =IF(OR(D6="",E6=""),"",_xlfn.NETWORKDAYS.INTL(D6,E6,Settings!$B$3,Holidays!$A$2:$A$200)-IF(F6="Yes",0.5,0))
G7: =IF(OR(D7="",E7=""),"",_xlfn.NETWORKDAYS.INTL(D7,E7,Settings!$B$3,Holidays!$A$2:$A$200)-IF(F7="Yes",0.5,0))
G8: =IF(OR(D8="",E8=""),"",_xlfn.NETWORKDAYS.INTL(D8,E8,Settings!$B$3,Holidays!$A$2:$A$200)-IF(F8="Yes",0.5,0))
G9: =IF(OR(D9="",E9=""),"",_xlfn.NETWORKDAYS.INTL(D9,E9,Settings!$B$3,Holidays!$A$2:$A$200)-IF(F9="Yes",0.5,0))
G10: =IF(OR(D10="",E10=""),"",_xlfn.NETWORKDAYS.INTL(D10,E10,Settings!$B$3,Holidays!$A$2:$A$200)-IF(F10="Yes",0.5,0))
G11: =IF(OR(D11="",E11=""),"",_xlfn.NETWORKDAYS.INTL(D11,E11,Settings!$B$3,Holidays!$A$2:$A$200)-IF(F11="Yes",0.5,0))
G12: =IF(OR(D12="",E12=""),"",_xlfn.NETWORKDAYS.INTL(D12,E12,Settings!$B$3,Holidays!$A$2:$A$200)-IF(F12="Yes",0.5,0))
G13: =IF(OR(D13="",E13=""),"",_xlfn.NETWORKDAYS.INTL(D13,E13,Settings!$B$3,Holidays!$A$2:$A$200)-IF(F13="Yes",0.5,0))
G14: =IF(OR(D14="",E14=""),"",_xlfn.NETWORKDAYS.INTL(D14,E14,Settings!$B$3,Holidays!$A$2:$A$200)-IF(F14="Yes",0.5,0))
G15: =IF(OR(D15="",E15=""),"",_xlfn.NETWORKDAYS.INTL(D15,E15,Settings!$B$3,Holidays!$A$2:$A$200)-IF(F15="Yes",0.5,0))
G16: =IF(OR(D16="",E16=""),"",_xlfn.NETWORKDAYS.INTL(D16,E16,Settings!$B$3,Holidays!$A$2:$A$200)-IF(F16="Yes",0.5,0))
G17: =IF(OR(D17="",E17=""),"",_xlfn.NETWORKDAYS.INTL(D17,E17,Settings!$B$3,Holidays!$A$2:$A$200)-IF(F17="Yes",0.5,0))
... G300: =IF(OR(D300="",E300=""),"",_xlfn.NETWORKDAYS.INTL(D300,E300,Settings!$B$3,Holidays!$A$2:$A$200)-IF(F300="Yes",0.5,0))

Sheet Balances
A1: Employee | B1: Annual leave allowance | C1: Carried over | D1: Taken | E1: Pending | F1: Remaining | G1: Sick days
A2: Greta Vogel | B2: 25 | C2: 2 | D2: =IF($A2="","",SUMIFS('Leave log'!$G:$G,'Leave log'!$A:$A,$A2,'Leave log'!$C:$C,"Annual leave",'Leave log'!$H:$H,"Approved",'Leave log'!$D:$D,">="&Settings!$B$2,'Leave log'!$D:$D,"<"&EDATE(Settings!$B$2,12))) | E2: =IF($A2="","",SUMIFS('Leave log'!$G:$G,'Leave log'!$A:$A,$A2,'Leave log'!$C:$C,"Annual leave",'Leave log'!$H:$H,"Pending",'Leave log'!$D:$D,">="&Settings!$B$2,'Leave log'!$D:$D,"<"&EDATE(Settings!$B$2,12))) | F2: =IF($A2="","",B2+C2-D2) | G2: =IF($A2="","",SUMIFS('Leave log'!$G:$G,'Leave log'!$A:$A,$A2,'Leave log'!$C:$C,"Sick leave",'Leave log'!$H:$H,"Approved",'Leave log'!$D:$D,">="&Settings!$B$2,'Leave log'!$D:$D,"<"&EDATE(Settings!$B$2,12)))
A3: Tom Becker | B3: 25 | C3: 0 | D3: =IF($A3="","",SUMIFS('Leave log'!$G:$G,'Leave log'!$A:$A,$A3,'Leave log'!$C:$C,"Annual leave",'Leave log'!$H:$H,"Approved",'Leave log'!$D:$D,">="&Settings!$B$2,'Leave log'!$D:$D,"<"&EDATE(Settings!$B$2,12))) | E3: =IF($A3="","",SUMIFS('Leave log'!$G:$G,'Leave log'!$A:$A,$A3,'Leave log'!$C:$C,"Annual leave",'Leave log'!$H:$H,"Pending",'Leave log'!$D:$D,">="&Settings!$B$2,'Leave log'!$D:$D,"<"&EDATE(Settings!$B$2,12))) | F3: =IF($A3="","",B3+C3-D3) | G3: =IF($A3="","",SUMIFS('Leave log'!$G:$G,'Leave log'!$A:$A,$A3,'Leave log'!$C:$C,"Sick leave",'Leave log'!$H:$H,"Approved",'Leave log'!$D:$D,">="&Settings!$B$2,'Leave log'!$D:$D,"<"&EDATE(Settings!$B$2,12)))
A4: Sara Lind | B4: 20 | C4: 0 | D4: =IF($A4="","",SUMIFS('Leave log'!$G:$G,'Leave log'!$A:$A,$A4,'Leave log'!$C:$C,"Annual leave",'Leave log'!$H:$H,"Approved",'Leave log'!$D:$D,">="&Settings!$B$2,'Leave log'!$D:$D,"<"&EDATE(Settings!$B$2,12))) | E4: =IF($A4="","",SUMIFS('Leave log'!$G:$G,'Leave log'!$A:$A,$A4,'Leave log'!$C:$C,"Annual leave",'Leave log'!$H:$H,"Pending",'Leave log'!$D:$D,">="&Settings!$B$2,'Leave log'!$D:$D,"<"&EDATE(Settings!$B$2,12))) | F4: =IF($A4="","",B4+C4-D4) | G4: =IF($A4="","",SUMIFS('Leave log'!$G:$G,'Leave log'!$A:$A,$A4,'Leave log'!$C:$C,"Sick leave",'Leave log'!$H:$H,"Approved",'Leave log'!$D:$D,">="&Settings!$B$2,'Leave log'!$D:$D,"<"&EDATE(Settings!$B$2,12)))
D5: =IF($A5="","",SUMIFS('Leave log'!$G:$G,'Leave log'!$A:$A,$A5,'Leave log'!$C:$C,"Annual leave",'Leave log'!$H:$H,"Approved",'Leave log'!$D:$D,">="&Settings!$B$2,'Leave log'!$D:$D,"<"&EDATE(Settings!$B$2,12))) | E5: =IF($A5="","",SUMIFS('Leave log'!$G:$G,'Leave log'!$A:$A,$A5,'Leave log'!$C:$C,"Annual leave",'Leave log'!$H:$H,"Pending",'Leave log'!$D:$D,">="&Settings!$B$2,'Leave log'!$D:$D,"<"&EDATE(Settings!$B$2,12))) | F5: =IF($A5="","",B5+C5-D5) | G5: =IF($A5="","",SUMIFS('Leave log'!$G:$G,'Leave log'!$A:$A,$A5,'Leave log'!$C:$C,"Sick leave",'Leave log'!$H:$H,"Approved",'Leave log'!$D:$D,">="&Settings!$B$2,'Leave log'!$D:$D,"<"&EDATE(Settings!$B$2,12)))
D6: =IF($A6="","",SUMIFS('Leave log'!$G:$G,'Leave log'!$A:$A,$A6,'Leave log'!$C:$C,"Annual leave",'Leave log'!$H:$H,"Approved",'Leave log'!$D:$D,">="&Settings!$B$2,'Leave log'!$D:$D,"<"&EDATE(Settings!$B$2,12))) | E6: =IF($A6="","",SUMIFS('Leave log'!$G:$G,'Leave log'!$A:$A,$A6,'Leave log'!$C:$C,"Annual leave",'Leave log'!$H:$H,"Pending",'Leave log'!$D:$D,">="&Settings!$B$2,'Leave log'!$D:$D,"<"&EDATE(Settings!$B$2,12))) | F6: =IF($A6="","",B6+C6-D6) | G6: =IF($A6="","",SUMIFS('Leave log'!$G:$G,'Leave log'!$A:$A,$A6,'Leave log'!$C:$C,"Sick leave",'Leave log'!$H:$H,"Approved",'Leave log'!$D:$D,">="&Settings!$B$2,'Leave log'!$D:$D,"<"&EDATE(Settings!$B$2,12)))
D7: =IF($A7="","",SUMIFS('Leave log'!$G:$G,'Leave log'!$A:$A,$A7,'Leave log'!$C:$C,"Annual leave",'Leave log'!$H:$H,"Approved",'Leave log'!$D:$D,">="&Settings!$B$2,'Leave log'!$D:$D,"<"&EDATE(Settings!$B$2,12))) | E7: =IF($A7="","",SUMIFS('Leave log'!$G:$G,'Leave log'!$A:$A,$A7,'Leave log'!$C:$C,"Annual leave",'Leave log'!$H:$H,"Pending",'Leave log'!$D:$D,">="&Settings!$B$2,'Leave log'!$D:$D,"<"&EDATE(Settings!$B$2,12))) | F7: =IF($A7="","",B7+C7-D7) | G7: =IF($A7="","",SUMIFS('Leave log'!$G:$G,'Leave log'!$A:$A,$A7,'Leave log'!$C:$C,"Sick leave",'Leave log'!$H:$H,"Approved",'Leave log'!$D:$D,">="&Settings!$B$2,'Leave log'!$D:$D,"<"&EDATE(Settings!$B$2,12)))
D8: =IF($A8="","",SUMIFS('Leave log'!$G:$G,'Leave log'!$A:$A,$A8,'Leave log'!$C:$C,"Annual leave",'Leave log'!$H:$H,"Approved",'Leave log'!$D:$D,">="&Settings!$B$2,'Leave log'!$D:$D,"<"&EDATE(Settings!$B$2,12))) | E8: =IF($A8="","",SUMIFS('Leave log'!$G:$G,'Leave log'!$A:$A,$A8,'Leave log'!$C:$C,"Annual leave",'Leave log'!$H:$H,"Pending",'Leave log'!$D:$D,">="&Settings!$B$2,'Leave log'!$D:$D,"<"&EDATE(Settings!$B$2,12))) | F8: =IF($A8="","",B8+C8-D8) | G8: =IF($A8="","",SUMIFS('Leave log'!$G:$G,'Leave log'!$A:$A,$A8,'Leave log'!$C:$C,"Sick leave",'Leave log'!$H:$H,"Approved",'Leave log'!$D:$D,">="&Settings!$B$2,'Leave log'!$D:$D,"<"&EDATE(Settings!$B$2,12)))
D9: =IF($A9="","",SUMIFS('Leave log'!$G:$G,'Leave log'!$A:$A,$A9,'Leave log'!$C:$C,"Annual leave",'Leave log'!$H:$H,"Approved",'Leave log'!$D:$D,">="&Settings!$B$2,'Leave log'!$D:$D,"<"&EDATE(Settings!$B$2,12))) | E9: =IF($A9="","",SUMIFS('Leave log'!$G:$G,'Leave log'!$A:$A,$A9,'Leave log'!$C:$C,"Annual leave",'Leave log'!$H:$H,"Pending",'Leave log'!$D:$D,">="&Settings!$B$2,'Leave log'!$D:$D,"<"&EDATE(Settings!$B$2,12))) | F9: =IF($A9="","",B9+C9-D9) | G9: =IF($A9="","",SUMIFS('Leave log'!$G:$G,'Leave log'!$A:$A,$A9,'Leave log'!$C:$C,"Sick leave",'Leave log'!$H:$H,"Approved",'Leave log'!$D:$D,">="&Settings!$B$2,'Leave log'!$D:$D,"<"&EDATE(Settings!$B$2,12)))
D10: =IF($A10="","",SUMIFS('Leave log'!$G:$G,'Leave log'!$A:$A,$A10,'Leave log'!$C:$C,"Annual leave",'Leave log'!$H:$H,"Approved",'Leave log'!$D:$D,">="&Settings!$B$2,'Leave log'!$D:$D,"<"&EDATE(Settings!$B$2,12))) | E10: =IF($A10="","",SUMIFS('Leave log'!$G:$G,'Leave log'!$A:$A,$A10,'Leave log'!$C:$C,"Annual leave",'Leave log'!$H:$H,"Pending",'Leave log'!$D:$D,">="&Settings!$B$2,'Leave log'!$D:$D,"<"&EDATE(Settings!$B$2,12))) | F10: =IF($A10="","",B10+C10-D10) | G10: =IF($A10="","",SUMIFS('Leave log'!$G:$G,'Leave log'!$A:$A,$A10,'Leave log'!$C:$C,"Sick leave",'Leave log'!$H:$H,"Approved",'Leave log'!$D:$D,">="&Settings!$B$2,'Leave log'!$D:$D,"<"&EDATE(Settings!$B$2,12)))
D11: =IF($A11="","",SUMIFS('Leave log'!$G:$G,'Leave log'!$A:$A,$A11,'Leave log'!$C:$C,"Annual leave",'Leave log'!$H:$H,"Approved",'Leave log'!$D:$D,">="&Settings!$B$2,'Leave log'!$D:$D,"<"&EDATE(Settings!$B$2,12))) | E11: =IF($A11="","",SUMIFS('Leave log'!$G:$G,'Leave log'!$A:$A,$A11,'Leave log'!$C:$C,"Annual leave",'Leave log'!$H:$H,"Pending",'Leave log'!$D:$D,">="&Settings!$B$2,'Leave log'!$D:$D,"<"&EDATE(Settings!$B$2,12))) | F11: =IF($A11="","",B11+C11-D11) | G11: =IF($A11="","",SUMIFS('Leave log'!$G:$G,'Leave log'!$A:$A,$A11,'Leave log'!$C:$C,"Sick leave",'Leave log'!$H:$H,"Approved",'Leave log'!$D:$D,">="&Settings!$B$2,'Leave log'!$D:$D,"<"&EDATE(Settings!$B$2,12)))
D12: =IF($A12="","",SUMIFS('Leave log'!$G:$G,'Leave log'!$A:$A,$A12,'Leave log'!$C:$C,"Annual leave",'Leave log'!$H:$H,"Approved",'Leave log'!$D:$D,">="&Settings!$B$2,'Leave log'!$D:$D,"<"&EDATE(Settings!$B$2,12))) | E12: =IF($A12="","",SUMIFS('Leave log'!$G:$G,'Leave log'!$A:$A,$A12,'Leave log'!$C:$C,"Annual leave",'Leave log'!$H:$H,"Pending",'Leave log'!$D:$D,">="&Settings!$B$2,'Leave log'!$D:$D,"<"&EDATE(Settings!$B$2,12))) | F12: =IF($A12="","",B12+C12-D12) | G12: =IF($A12="","",SUMIFS('Leave log'!$G:$G,'Leave log'!$A:$A,$A12,'Leave log'!$C:$C,"Sick leave",'Leave log'!$H:$H,"Approved",'Leave log'!$D:$D,">="&Settings!$B$2,'Leave log'!$D:$D,"<"&EDATE(Settings!$B$2,12)))
D13: =IF($A13="","",SUMIFS('Leave log'!$G:$G,'Leave log'!$A:$A,$A13,'Leave log'!$C:$C,"Annual leave",'Leave log'!$H:$H,"Approved",'Leave log'!$D:$D,">="&Settings!$B$2,'Leave log'!$D:$D,"<"&EDATE(Settings!$B$2,12))) | E13: =IF($A13="","",SUMIFS('Leave log'!$G:$G,'Leave log'!$A:$A,$A13,'Leave log'!$C:$C,"Annual leave",'Leave log'!$H:$H,"Pending",'Leave log'!$D:$D,">="&Settings!$B$2,'Leave log'!$D:$D,"<"&EDATE(Settings!$B$2,12))) | F13: =IF($A13="","",B13+C13-D13) | G13: =IF($A13="","",SUMIFS('Leave log'!$G:$G,'Leave log'!$A:$A,$A13,'Leave log'!$C:$C,"Sick leave",'Leave log'!$H:$H,"Approved",'Leave log'!$D:$D,">="&Settings!$B$2,'Leave log'!$D:$D,"<"&EDATE(Settings!$B$2,12)))
D14: =IF($A14="","",SUMIFS('Leave log'!$G:$G,'Leave log'!$A:$A,$A14,'Leave log'!$C:$C,"Annual leave",'Leave log'!$H:$H,"Approved",'Leave log'!$D:$D,">="&Settings!$B$2,'Leave log'!$D:$D,"<"&EDATE(Settings!$B$2,12))) | E14: =IF($A14="","",SUMIFS('Leave log'!$G:$G,'Leave log'!$A:$A,$A14,'Leave log'!$C:$C,"Annual leave",'Leave log'!$H:$H,"Pending",'Leave log'!$D:$D,">="&Settings!$B$2,'Leave log'!$D:$D,"<"&EDATE(Settings!$B$2,12))) | F14: =IF($A14="","",B14+C14-D14) | G14: =IF($A14="","",SUMIFS('Leave log'!$G:$G,'Leave log'!$A:$A,$A14,'Leave log'!$C:$C,"Sick leave",'Leave log'!$H:$H,"Approved",'Leave log'!$D:$D,">="&Settings!$B$2,'Leave log'!$D:$D,"<"&EDATE(Settings!$B$2,12)))
D15: =IF($A15="","",SUMIFS('Leave log'!$G:$G,'Leave log'!$A:$A,$A15,'Leave log'!$C:$C,"Annual leave",'Leave log'!$H:$H,"Approved",'Leave log'!$D:$D,">="&Settings!$B$2,'Leave log'!$D:$D,"<"&EDATE(Settings!$B$2,12))) | E15: =IF($A15="","",SUMIFS('Leave log'!$G:$G,'Leave log'!$A:$A,$A15,'Leave log'!$C:$C,"Annual leave",'Leave log'!$H:$H,"Pending",'Leave log'!$D:$D,">="&Settings!$B$2,'Leave log'!$D:$D,"<"&EDATE(Settings!$B$2,12))) | F15: =IF($A15="","",B15+C15-D15) | G15: =IF($A15="","",SUMIFS('Leave log'!$G:$G,'Leave log'!$A:$A,$A15,'Leave log'!$C:$C,"Sick leave",'Leave log'!$H:$H,"Approved",'Leave log'!$D:$D,">="&Settings!$B$2,'Leave log'!$D:$D,"<"&EDATE(Settings!$B$2,12)))
D16: =IF($A16="","",SUMIFS('Leave log'!$G:$G,'Leave log'!$A:$A,$A16,'Leave log'!$C:$C,"Annual leave",'Leave log'!$H:$H,"Approved",'Leave log'!$D:$D,">="&Settings!$B$2,'Leave log'!$D:$D,"<"&EDATE(Settings!$B$2,12))) | E16: =IF($A16="","",SUMIFS('Leave log'!$G:$G,'Leave log'!$A:$A,$A16,'Leave log'!$C:$C,"Annual leave",'Leave log'!$H:$H,"Pending",'Leave log'!$D:$D,">="&Settings!$B$2,'Leave log'!$D:$D,"<"&EDATE(Settings!$B$2,12))) | F16: =IF($A16="","",B16+C16-D16) | G16: =IF($A16="","",SUMIFS('Leave log'!$G:$G,'Leave log'!$A:$A,$A16,'Leave log'!$C:$C,"Sick leave",'Leave log'!$H:$H,"Approved",'Leave log'!$D:$D,">="&Settings!$B$2,'Leave log'!$D:$D,"<"&EDATE(Settings!$B$2,12)))
... D51: =IF($A51="","",SUMIFS('Leave log'!$G:$G,'Leave log'!$A:$A,$A51,'Leave log'!$C:$C,"Annual leave",'Leave log'!$H:$H,"Approved",'Leave log'!$D:$D,">="&Settings!$B$2,'Leave log'!$D:$D,"<"&EDATE(Settings!$B$2,12))) | E51: =IF($A51="","",SUMIFS('Leave log'!$G:$G,'Leave log'!$A:$A,$A51,'Leave log'!$C:$C,"Annual leave",'Leave log'!$H:$H,"Pending",'Leave log'!$D:$D,">="&Settings!$B$2,'Leave log'!$D:$D,"<"&EDATE(Settings!$B$2,12))) | F51: =IF($A51="","",B51+C51-D51) | G51: =IF($A51="","",SUMIFS('Leave log'!$G:$G,'Leave log'!$A:$A,$A51,'Leave log'!$C:$C,"Sick leave",'Leave log'!$H:$H,"Approved",'Leave log'!$D:$D,">="&Settings!$B$2,'Leave log'!$D:$D,"<"&EDATE(Settings!$B$2,12)))

Sheet Calendar
A1: Month | B1: 46204 | E1: Change B1 to the first of any month. X = approved leave.
A3: Employee | B3: =IF(MONTH($B$1+0)=MONTH($B$1),$B$1+0,"") | C3: =IF(MONTH($B$1+1)=MONTH($B$1),$B$1+1,"") | D3: =IF(MONTH($B$1+2)=MONTH($B$1),$B$1+2,"") | E3: =IF(MONTH($B$1+3)=MONTH($B$1),$B$1+3,"") | F3: =IF(MONTH($B$1+4)=MONTH($B$1),$B$1+4,"") | G3: =IF(MONTH($B$1+5)=MONTH($B$1),$B$1+5,"") | H3: =IF(MONTH($B$1+6)=MONTH($B$1),$B$1+6,"") | I3: =IF(MONTH($B$1+7)=MONTH($B$1),$B$1+7,"") | J3: =IF(MONTH($B$1+8)=MONTH($B$1),$B$1+8,"") | K3: =IF(MONTH($B$1+9)=MONTH($B$1),$B$1+9,"") | L3: =IF(MONTH($B$1+10)=MONTH($B$1),$B$1+10,"") | M3: =IF(MONTH($B$1+11)=MONTH($B$1),$B$1+11,"") | N3: =IF(MONTH($B$1+12)=MONTH($B$1),$B$1+12,"") | O3: =IF(MONTH($B$1+13)=MONTH($B$1),$B$1+13,"") | P3: =IF(MONTH($B$1+14)=MONTH($B$1),$B$1+14,"") | Q3: =IF(MONTH($B$1+15)=MONTH($B$1),$B$1+15,"") | R3: =IF(MONTH($B$1+16)=MONTH($B$1),$B$1+16,"") | S3: =IF(MONTH($B$1+17)=MONTH($B$1),$B$1+17,"") | T3: =IF(MONTH($B$1+18)=MONTH($B$1),$B$1+18,"") | U3: =IF(MONTH($B$1+19)=MONTH($B$1),$B$1+19,"") | V3: =IF(MONTH($B$1+20)=MONTH($B$1),$B$1+20,"") | W3: =IF(MONTH($B$1+21)=MONTH($B$1),$B$1+21,"") | X3: =IF(MONTH($B$1+22)=MONTH($B$1),$B$1+22,"") | Y3: =IF(MONTH($B$1+23)=MONTH($B$1),$B$1+23,"") | Z3: =IF(MONTH($B$1+24)=MONTH($B$1),$B$1+24,"") | AA3: =IF(MONTH($B$1+25)=MONTH($B$1),$B$1+25,"") | AB3: =IF(MONTH($B$1+26)=MONTH($B$1),$B$1+26,"") | AC3: =IF(MONTH($B$1+27)=MONTH($B$1),$B$1+27,"") | AD3: =IF(MONTH($B$1+28)=MONTH($B$1),$B$1+28,"") | AE3: =IF(MONTH($B$1+29)=MONTH($B$1),$B$1+29,"") | AF3: =IF(MONTH($B$1+30)=MONTH($B$1),$B$1+30,"")
A4: =IF(Balances!A2="","",Balances!A2) | B4: =IF(OR($A4="",B$3=""),"",IF(COUNTIFS('Leave log'!$A:$A,$A4,'Leave log'!$D:$D,"<="&B$3,'Leave log'!$E:$E,">="&B$3,'Leave log'!$H:$H,"Approved")>0,"X","")) | C4: =IF(OR($A4="",C$3=""),"",IF(COUNTIFS('Leave log'!$A:$A,$A4,'Leave log'!$D:$D,"<="&C$3,'Leave log'!$E:$E,">="&C$3,'Leave log'!$H:$H,"Approved")>0,"X","")) | D4: =IF(OR($A4="",D$3=""),"",IF(COUNTIFS('Leave log'!$A:$A,$A4,'Leave log'!$D:$D,"<="&D$3,'Leave log'!$E:$E,">="&D$3,'Leave log'!$H:$H,"Approved")>0,"X","")) | E4: =IF(OR($A4="",E$3=""),"",IF(COUNTIFS('Leave log'!$A:$A,$A4,'Leave log'!$D:$D,"<="&E$3,'Leave log'!$E:$E,">="&E$3,'Leave log'!$H:$H,"Approved")>0,"X","")) | F4: =IF(OR($A4="",F$3=""),"",IF(COUNTIFS('Leave log'!$A:$A,$A4,'Leave log'!$D:$D,"<="&F$3,'Leave log'!$E:$E,">="&F$3,'Leave log'!$H:$H,"Approved")>0,"X","")) | G4: =IF(OR($A4="",G$3=""),"",IF(COUNTIFS('Leave log'!$A:$A,$A4,'Leave log'!$D:$D,"<="&G$3,'Leave log'!$E:$E,">="&G$3,'Leave log'!$H:$H,"Approved")>0,"X","")) | H4: =IF(OR($A4="",H$3=""),"",IF(COUNTIFS('Leave log'!$A:$A,$A4,'Leave log'!$D:$D,"<="&H$3,'Leave log'!$E:$E,">="&H$3,'Leave log'!$H:$H,"Approved")>0,"X","")) | I4: =IF(OR($A4="",I$3=""),"",IF(COUNTIFS('Leave log'!$A:$A,$A4,'Leave log'!$D:$D,"<="&I$3,'Leave log'!$E:$E,">="&I$3,'Leave log'!$H:$H,"Approved")>0,"X","")) | ... AF4: =IF(OR($A4="",AF$3=""),"",IF(COUNTIFS('Leave log'!$A:$A,$A4,'Leave log'!$D:$D,"<="&AF$3,'Leave log'!$E:$E,">="&AF$3,'Leave log'!$H:$H,"Approved")>0,"X",""))
A5: =IF(Balances!A3="","",Balances!A3) | B5: =IF(OR($A5="",B$3=""),"",IF(COUNTIFS('Leave log'!$A:$A,$A5,'Leave log'!$D:$D,"<="&B$3,'Leave log'!$E:$E,">="&B$3,'Leave log'!$H:$H,"Approved")>0,"X","")) | C5: =IF(OR($A5="",C$3=""),"",IF(COUNTIFS('Leave log'!$A:$A,$A5,'Leave log'!$D:$D,"<="&C$3,'Leave log'!$E:$E,">="&C$3,'Leave log'!$H:$H,"Approved")>0,"X","")) | D5: =IF(OR($A5="",D$3=""),"",IF(COUNTIFS('Leave log'!$A:$A,$A5,'Leave log'!$D:$D,"<="&D$3,'Leave log'!$E:$E,">="&D$3,'Leave log'!$H:$H,"Approved")>0,"X","")) | E5: =IF(OR($A5="",E$3=""),"",IF(COUNTIFS('Leave log'!$A:$A,$A5,'Leave log'!$D:$D,"<="&E$3,'Leave log'!$E:$E,">="&E$3,'Leave log'!$H:$H,"Approved")>0,"X","")) | F5: =IF(OR($A5="",F$3=""),"",IF(COUNTIFS('Leave log'!$A:$A,$A5,'Leave log'!$D:$D,"<="&F$3,'Leave log'!$E:$E,">="&F$3,'Leave log'!$H:$H,"Approved")>0,"X","")) | G5: =IF(OR($A5="",G$3=""),"",IF(COUNTIFS('Leave log'!$A:$A,$A5,'Leave log'!$D:$D,"<="&G$3,'Leave log'!$E:$E,">="&G$3,'Leave log'!$H:$H,"Approved")>0,"X","")) | H5: =IF(OR($A5="",H$3=""),"",IF(COUNTIFS('Leave log'!$A:$A,$A5,'Leave log'!$D:$D,"<="&H$3,'Leave log'!$E:$E,">="&H$3,'Leave log'!$H:$H,"Approved")>0,"X","")) | I5: =IF(OR($A5="",I$3=""),"",IF(COUNTIFS('Leave log'!$A:$A,$A5,'Leave log'!$D:$D,"<="&I$3,'Leave log'!$E:$E,">="&I$3,'Leave log'!$H:$H,"Approved")>0,"X","")) | ... AF5: =IF(OR($A5="",AF$3=""),"",IF(COUNTIFS('Leave log'!$A:$A,$A5,'Leave log'!$D:$D,"<="&AF$3,'Leave log'!$E:$E,">="&AF$3,'Leave log'!$H:$H,"Approved")>0,"X",""))
A6: =IF(Balances!A4="","",Balances!A4) | B6: =IF(OR($A6="",B$3=""),"",IF(COUNTIFS('Leave log'!$A:$A,$A6,'Leave log'!$D:$D,"<="&B$3,'Leave log'!$E:$E,">="&B$3,'Leave log'!$H:$H,"Approved")>0,"X","")) | C6: =IF(OR($A6="",C$3=""),"",IF(COUNTIFS('Leave log'!$A:$A,$A6,'Leave log'!$D:$D,"<="&C$3,'Leave log'!$E:$E,">="&C$3,'Leave log'!$H:$H,"Approved")>0,"X","")) | D6: =IF(OR($A6="",D$3=""),"",IF(COUNTIFS('Leave log'!$A:$A,$A6,'Leave log'!$D:$D,"<="&D$3,'Leave log'!$E:$E,">="&D$3,'Leave log'!$H:$H,"Approved")>0,"X","")) | E6: =IF(OR($A6="",E$3=""),"",IF(COUNTIFS('Leave log'!$A:$A,$A6,'Leave log'!$D:$D,"<="&E$3,'Leave log'!$E:$E,">="&E$3,'Leave log'!$H:$H,"Approved")>0,"X","")) | F6: =IF(OR($A6="",F$3=""),"",IF(COUNTIFS('Leave log'!$A:$A,$A6,'Leave log'!$D:$D,"<="&F$3,'Leave log'!$E:$E,">="&F$3,'Leave log'!$H:$H,"Approved")>0,"X","")) | G6: =IF(OR($A6="",G$3=""),"",IF(COUNTIFS('Leave log'!$A:$A,$A6,'Leave log'!$D:$D,"<="&G$3,'Leave log'!$E:$E,">="&G$3,'Leave log'!$H:$H,"Approved")>0,"X","")) | H6: =IF(OR($A6="",H$3=""),"",IF(COUNTIFS('Leave log'!$A:$A,$A6,'Leave log'!$D:$D,"<="&H$3,'Leave log'!$E:$E,">="&H$3,'Leave log'!$H:$H,"Approved")>0,"X","")) | I6: =IF(OR($A6="",I$3=""),"",IF(COUNTIFS('Leave log'!$A:$A,$A6,'Leave log'!$D:$D,"<="&I$3,'Leave log'!$E:$E,">="&I$3,'Leave log'!$H:$H,"Approved")>0,"X","")) | ... AF6: =IF(OR($A6="",AF$3=""),"",IF(COUNTIFS('Leave log'!$A:$A,$A6,'Leave log'!$D:$D,"<="&AF$3,'Leave log'!$E:$E,">="&AF$3,'Leave log'!$H:$H,"Approved")>0,"X",""))
A7: =IF(Balances!A5="","",Balances!A5) | B7: =IF(OR($A7="",B$3=""),"",IF(COUNTIFS('Leave log'!$A:$A,$A7,'Leave log'!$D:$D,"<="&B$3,'Leave log'!$E:$E,">="&B$3,'Leave log'!$H:$H,"Approved")>0,"X","")) | C7: =IF(OR($A7="",C$3=""),"",IF(COUNTIFS('Leave log'!$A:$A,$A7,'Leave log'!$D:$D,"<="&C$3,'Leave log'!$E:$E,">="&C$3,'Leave log'!$H:$H,"Approved")>0,"X","")) | D7: =IF(OR($A7="",D$3=""),"",IF(COUNTIFS('Leave log'!$A:$A,$A7,'Leave log'!$D:$D,"<="&D$3,'Leave log'!$E:$E,">="&D$3,'Leave log'!$H:$H,"Approved")>0,"X","")) | E7: =IF(OR($A7="",E$3=""),"",IF(COUNTIFS('Leave log'!$A:$A,$A7,'Leave log'!$D:$D,"<="&E$3,'Leave log'!$E:$E,">="&E$3,'Leave log'!$H:$H,"Approved")>0,"X","")) | F7: =IF(OR($A7="",F$3=""),"",IF(COUNTIFS('Leave log'!$A:$A,$A7,'Leave log'!$D:$D,"<="&F$3,'Leave log'!$E:$E,">="&F$3,'Leave log'!$H:$H,"Approved")>0,"X","")) | G7: =IF(OR($A7="",G$3=""),"",IF(COUNTIFS('Leave log'!$A:$A,$A7,'Leave log'!$D:$D,"<="&G$3,'Leave log'!$E:$E,">="&G$3,'Leave log'!$H:$H,"Approved")>0,"X","")) | H7: =IF(OR($A7="",H$3=""),"",IF(COUNTIFS('Leave log'!$A:$A,$A7,'Leave log'!$D:$D,"<="&H$3,'Leave log'!$E:$E,">="&H$3,'Leave log'!$H:$H,"Approved")>0,"X","")) | I7: =IF(OR($A7="",I$3=""),"",IF(COUNTIFS('Leave log'!$A:$A,$A7,'Leave log'!$D:$D,"<="&I$3,'Leave log'!$E:$E,">="&I$3,'Leave log'!$H:$H,"Approved")>0,"X","")) | ... AF7: =IF(OR($A7="",AF$3=""),"",IF(COUNTIFS('Leave log'!$A:$A,$A7,'Leave log'!$D:$D,"<="&AF$3,'Leave log'!$E:$E,">="&AF$3,'Leave log'!$H:$H,"Approved")>0,"X",""))
A8: =IF(Balances!A6="","",Balances!A6) | B8: =IF(OR($A8="",B$3=""),"",IF(COUNTIFS('Leave log'!$A:$A,$A8,'Leave log'!$D:$D,"<="&B$3,'Leave log'!$E:$E,">="&B$3,'Leave log'!$H:$H,"Approved")>0,"X","")) | C8: =IF(OR($A8="",C$3=""),"",IF(COUNTIFS('Leave log'!$A:$A,$A8,'Leave log'!$D:$D,"<="&C$3,'Leave log'!$E:$E,">="&C$3,'Leave log'!$H:$H,"Approved")>0,"X","")) | D8: =IF(OR($A8="",D$3=""),"",IF(COUNTIFS('Leave log'!$A:$A,$A8,'Leave log'!$D:$D,"<="&D$3,'Leave log'!$E:$E,">="&D$3,'Leave log'!$H:$H,"Approved")>0,"X","")) | E8: =IF(OR($A8="",E$3=""),"",IF(COUNTIFS('Leave log'!$A:$A,$A8,'Leave log'!$D:$D,"<="&E$3,'Leave log'!$E:$E,">="&E$3,'Leave log'!$H:$H,"Approved")>0,"X","")) | F8: =IF(OR($A8="",F$3=""),"",IF(COUNTIFS('Leave log'!$A:$A,$A8,'Leave log'!$D:$D,"<="&F$3,'Leave log'!$E:$E,">="&F$3,'Leave log'!$H:$H,"Approved")>0,"X","")) | G8: =IF(OR($A8="",G$3=""),"",IF(COUNTIFS('Leave log'!$A:$A,$A8,'Leave log'!$D:$D,"<="&G$3,'Leave log'!$E:$E,">="&G$3,'Leave log'!$H:$H,"Approved")>0,"X","")) | H8: =IF(OR($A8="",H$3=""),"",IF(COUNTIFS('Leave log'!$A:$A,$A8,'Leave log'!$D:$D,"<="&H$3,'Leave log'!$E:$E,">="&H$3,'Leave log'!$H:$H,"Approved")>0,"X","")) | I8: =IF(OR($A8="",I$3=""),"",IF(COUNTIFS('Leave log'!$A:$A,$A8,'Leave log'!$D:$D,"<="&I$3,'Leave log'!$E:$E,">="&I$3,'Leave log'!$H:$H,"Approved")>0,"X","")) | ... AF8: =IF(OR($A8="",AF$3=""),"",IF(COUNTIFS('Leave log'!$A:$A,$A8,'Leave log'!$D:$D,"<="&AF$3,'Leave log'!$E:$E,">="&AF$3,'Leave log'!$H:$H,"Approved")>0,"X",""))
A9: =IF(Balances!A7="","",Balances!A7) | B9: =IF(OR($A9="",B$3=""),"",IF(COUNTIFS('Leave log'!$A:$A,$A9,'Leave log'!$D:$D,"<="&B$3,'Leave log'!$E:$E,">="&B$3,'Leave log'!$H:$H,"Approved")>0,"X","")) | C9: =IF(OR($A9="",C$3=""),"",IF(COUNTIFS('Leave log'!$A:$A,$A9,'Leave log'!$D:$D,"<="&C$3,'Leave log'!$E:$E,">="&C$3,'Leave log'!$H:$H,"Approved")>0,"X","")) | D9: =IF(OR($A9="",D$3=""),"",IF(COUNTIFS('Leave log'!$A:$A,$A9,'Leave log'!$D:$D,"<="&D$3,'Leave log'!$E:$E,">="&D$3,'Leave log'!$H:$H,"Approved")>0,"X","")) | E9: =IF(OR($A9="",E$3=""),"",IF(COUNTIFS('Leave log'!$A:$A,$A9,'Leave log'!$D:$D,"<="&E$3,'Leave log'!$E:$E,">="&E$3,'Leave log'!$H:$H,"Approved")>0,"X","")) | F9: =IF(OR($A9="",F$3=""),"",IF(COUNTIFS('Leave log'!$A:$A,$A9,'Leave log'!$D:$D,"<="&F$3,'Leave log'!$E:$E,">="&F$3,'Leave log'!$H:$H,"Approved")>0,"X","")) | G9: =IF(OR($A9="",G$3=""),"",IF(COUNTIFS('Leave log'!$A:$A,$A9,'Leave log'!$D:$D,"<="&G$3,'Leave log'!$E:$E,">="&G$3,'Leave log'!$H:$H,"Approved")>0,"X","")) | H9: =IF(OR($A9="",H$3=""),"",IF(COUNTIFS('Leave log'!$A:$A,$A9,'Leave log'!$D:$D,"<="&H$3,'Leave log'!$E:$E,">="&H$3,'Leave log'!$H:$H,"Approved")>0,"X","")) | I9: =IF(OR($A9="",I$3=""),"",IF(COUNTIFS('Leave log'!$A:$A,$A9,'Leave log'!$D:$D,"<="&I$3,'Leave log'!$E:$E,">="&I$3,'Leave log'!$H:$H,"Approved")>0,"X","")) | ... AF9: =IF(OR($A9="",AF$3=""),"",IF(COUNTIFS('Leave log'!$A:$A,$A9,'Leave log'!$D:$D,"<="&AF$3,'Leave log'!$E:$E,">="&AF$3,'Leave log'!$H:$H,"Approved")>0,"X",""))
A10: =IF(Balances!A8="","",Balances!A8) | B10: =IF(OR($A10="",B$3=""),"",IF(COUNTIFS('Leave log'!$A:$A,$A10,'Leave log'!$D:$D,"<="&B$3,'Leave log'!$E:$E,">="&B$3,'Leave log'!$H:$H,"Approved")>0,"X","")) | C10: =IF(OR($A10="",C$3=""),"",IF(COUNTIFS('Leave log'!$A:$A,$A10,'Leave log'!$D:$D,"<="&C$3,'Leave log'!$E:$E,">="&C$3,'Leave log'!$H:$H,"Approved")>0,"X","")) | D10: =IF(OR($A10="",D$3=""),"",IF(COUNTIFS('Leave log'!$A:$A,$A10,'Leave log'!$D:$D,"<="&D$3,'Leave log'!$E:$E,">="&D$3,'Leave log'!$H:$H,"Approved")>0,"X","")) | E10: =IF(OR($A10="",E$3=""),"",IF(COUNTIFS('Leave log'!$A:$A,$A10,'Leave log'!$D:$D,"<="&E$3,'Leave log'!$E:$E,">="&E$3,'Leave log'!$H:$H,"Approved")>0,"X","")) | F10: =IF(OR($A10="",F$3=""),"",IF(COUNTIFS('Leave log'!$A:$A,$A10,'Leave log'!$D:$D,"<="&F$3,'Leave log'!$E:$E,">="&F$3,'Leave log'!$H:$H,"Approved")>0,"X","")) | G10: =IF(OR($A10="",G$3=""),"",IF(COUNTIFS('Leave log'!$A:$A,$A10,'Leave log'!$D:$D,"<="&G$3,'Leave log'!$E:$E,">="&G$3,'Leave log'!$H:$H,"Approved")>0,"X","")) | H10: =IF(OR($A10="",H$3=""),"",IF(COUNTIFS('Leave log'!$A:$A,$A10,'Leave log'!$D:$D,"<="&H$3,'Leave log'!$E:$E,">="&H$3,'Leave log'!$H:$H,"Approved")>0,"X","")) | I10: =IF(OR($A10="",I$3=""),"",IF(COUNTIFS('Leave log'!$A:$A,$A10,'Leave log'!$D:$D,"<="&I$3,'Leave log'!$E:$E,">="&I$3,'Leave log'!$H:$H,"Approved")>0,"X","")) | ... AF10: =IF(OR($A10="",AF$3=""),"",IF(COUNTIFS('Leave log'!$A:$A,$A10,'Leave log'!$D:$D,"<="&AF$3,'Leave log'!$E:$E,">="&AF$3,'Leave log'!$H:$H,"Approved")>0,"X",""))
A11: =IF(Balances!A9="","",Balances!A9) | B11: =IF(OR($A11="",B$3=""),"",IF(COUNTIFS('Leave log'!$A:$A,$A11,'Leave log'!$D:$D,"<="&B$3,'Leave log'!$E:$E,">="&B$3,'Leave log'!$H:$H,"Approved")>0,"X","")) | C11: =IF(OR($A11="",C$3=""),"",IF(COUNTIFS('Leave log'!$A:$A,$A11,'Leave log'!$D:$D,"<="&C$3,'Leave log'!$E:$E,">="&C$3,'Leave log'!$H:$H,"Approved")>0,"X","")) | D11: =IF(OR($A11="",D$3=""),"",IF(COUNTIFS('Leave log'!$A:$A,$A11,'Leave log'!$D:$D,"<="&D$3,'Leave log'!$E:$E,">="&D$3,'Leave log'!$H:$H,"Approved")>0,"X","")) | E11: =IF(OR($A11="",E$3=""),"",IF(COUNTIFS('Leave log'!$A:$A,$A11,'Leave log'!$D:$D,"<="&E$3,'Leave log'!$E:$E,">="&E$3,'Leave log'!$H:$H,"Approved")>0,"X","")) | F11: =IF(OR($A11="",F$3=""),"",IF(COUNTIFS('Leave log'!$A:$A,$A11,'Leave log'!$D:$D,"<="&F$3,'Leave log'!$E:$E,">="&F$3,'Leave log'!$H:$H,"Approved")>0,"X","")) | G11: =IF(OR($A11="",G$3=""),"",IF(COUNTIFS('Leave log'!$A:$A,$A11,'Leave log'!$D:$D,"<="&G$3,'Leave log'!$E:$E,">="&G$3,'Leave log'!$H:$H,"Approved")>0,"X","")) | H11: =IF(OR($A11="",H$3=""),"",IF(COUNTIFS('Leave log'!$A:$A,$A11,'Leave log'!$D:$D,"<="&H$3,'Leave log'!$E:$E,">="&H$3,'Leave log'!$H:$H,"Approved")>0,"X","")) | I11: =IF(OR($A11="",I$3=""),"",IF(COUNTIFS('Leave log'!$A:$A,$A11,'Leave log'!$D:$D,"<="&I$3,'Leave log'!$E:$E,">="&I$3,'Leave log'!$H:$H,"Approved")>0,"X","")) | ... AF11: =IF(OR($A11="",AF$3=""),"",IF(COUNTIFS('Leave log'!$A:$A,$A11,'Leave log'!$D:$D,"<="&AF$3,'Leave log'!$E:$E,">="&AF$3,'Leave log'!$H:$H,"Approved")>0,"X",""))
A12: =IF(Balances!A10="","",Balances!A10) | B12: =IF(OR($A12="",B$3=""),"",IF(COUNTIFS('Leave log'!$A:$A,$A12,'Leave log'!$D:$D,"<="&B$3,'Leave log'!$E:$E,">="&B$3,'Leave log'!$H:$H,"Approved")>0,"X","")) | C12: =IF(OR($A12="",C$3=""),"",IF(COUNTIFS('Leave log'!$A:$A,$A12,'Leave log'!$D:$D,"<="&C$3,'Leave log'!$E:$E,">="&C$3,'Leave log'!$H:$H,"Approved")>0,"X","")) | D12: =IF(OR($A12="",D$3=""),"",IF(COUNTIFS('Leave log'!$A:$A,$A12,'Leave log'!$D:$D,"<="&D$3,'Leave log'!$E:$E,">="&D$3,'Leave log'!$H:$H,"Approved")>0,"X","")) | E12: =IF(OR($A12="",E$3=""),"",IF(COUNTIFS('Leave log'!$A:$A,$A12,'Leave log'!$D:$D,"<="&E$3,'Leave log'!$E:$E,">="&E$3,'Leave log'!$H:$H,"Approved")>0,"X","")) | F12: =IF(OR($A12="",F$3=""),"",IF(COUNTIFS('Leave log'!$A:$A,$A12,'Leave log'!$D:$D,"<="&F$3,'Leave log'!$E:$E,">="&F$3,'Leave log'!$H:$H,"Approved")>0,"X","")) | G12: =IF(OR($A12="",G$3=""),"",IF(COUNTIFS('Leave log'!$A:$A,$A12,'Leave log'!$D:$D,"<="&G$3,'Leave log'!$E:$E,">="&G$3,'Leave log'!$H:$H,"Approved")>0,"X","")) | H12: =IF(OR($A12="",H$3=""),"",IF(COUNTIFS('Leave log'!$A:$A,$A12,'Leave log'!$D:$D,"<="&H$3,'Leave log'!$E:$E,">="&H$3,'Leave log'!$H:$H,"Approved")>0,"X","")) | I12: =IF(OR($A12="",I$3=""),"",IF(COUNTIFS('Leave log'!$A:$A,$A12,'Leave log'!$D:$D,"<="&I$3,'Leave log'!$E:$E,">="&I$3,'Leave log'!$H:$H,"Approved")>0,"X","")) | ... AF12: =IF(OR($A12="",AF$3=""),"",IF(COUNTIFS('Leave log'!$A:$A,$A12,'Leave log'!$D:$D,"<="&AF$3,'Leave log'!$E:$E,">="&AF$3,'Leave log'!$H:$H,"Approved")>0,"X",""))
A13: =IF(Balances!A11="","",Balances!A11) | B13: =IF(OR($A13="",B$3=""),"",IF(COUNTIFS('Leave log'!$A:$A,$A13,'Leave log'!$D:$D,"<="&B$3,'Leave log'!$E:$E,">="&B$3,'Leave log'!$H:$H,"Approved")>0,"X","")) | C13: =IF(OR($A13="",C$3=""),"",IF(COUNTIFS('Leave log'!$A:$A,$A13,'Leave log'!$D:$D,"<="&C$3,'Leave log'!$E:$E,">="&C$3,'Leave log'!$H:$H,"Approved")>0,"X","")) | D13: =IF(OR($A13="",D$3=""),"",IF(COUNTIFS('Leave log'!$A:$A,$A13,'Leave log'!$D:$D,"<="&D$3,'Leave log'!$E:$E,">="&D$3,'Leave log'!$H:$H,"Approved")>0,"X","")) | E13: =IF(OR($A13="",E$3=""),"",IF(COUNTIFS('Leave log'!$A:$A,$A13,'Leave log'!$D:$D,"<="&E$3,'Leave log'!$E:$E,">="&E$3,'Leave log'!$H:$H,"Approved")>0,"X","")) | F13: =IF(OR($A13="",F$3=""),"",IF(COUNTIFS('Leave log'!$A:$A,$A13,'Leave log'!$D:$D,"<="&F$3,'Leave log'!$E:$E,">="&F$3,'Leave log'!$H:$H,"Approved")>0,"X","")) | G13: =IF(OR($A13="",G$3=""),"",IF(COUNTIFS('Leave log'!$A:$A,$A13,'Leave log'!$D:$D,"<="&G$3,'Leave log'!$E:$E,">="&G$3,'Leave log'!$H:$H,"Approved")>0,"X","")) | H13: =IF(OR($A13="",H$3=""),"",IF(COUNTIFS('Leave log'!$A:$A,$A13,'Leave log'!$D:$D,"<="&H$3,'Leave log'!$E:$E,">="&H$3,'Leave log'!$H:$H,"Approved")>0,"X","")) | I13: =IF(OR($A13="",I$3=""),"",IF(COUNTIFS('Leave log'!$A:$A,$A13,'Leave log'!$D:$D,"<="&I$3,'Leave log'!$E:$E,">="&I$3,'Leave log'!$H:$H,"Approved")>0,"X","")) | ... AF13: =IF(OR($A13="",AF$3=""),"",IF(COUNTIFS('Leave log'!$A:$A,$A13,'Leave log'!$D:$D,"<="&AF$3,'Leave log'!$E:$E,">="&AF$3,'Leave log'!$H:$H,"Approved")>0,"X",""))
A14: =IF(Balances!A12="","",Balances!A12) | B14: =IF(OR($A14="",B$3=""),"",IF(COUNTIFS('Leave log'!$A:$A,$A14,'Leave log'!$D:$D,"<="&B$3,'Leave log'!$E:$E,">="&B$3,'Leave log'!$H:$H,"Approved")>0,"X","")) | C14: =IF(OR($A14="",C$3=""),"",IF(COUNTIFS('Leave log'!$A:$A,$A14,'Leave log'!$D:$D,"<="&C$3,'Leave log'!$E:$E,">="&C$3,'Leave log'!$H:$H,"Approved")>0,"X","")) | D14: =IF(OR($A14="",D$3=""),"",IF(COUNTIFS('Leave log'!$A:$A,$A14,'Leave log'!$D:$D,"<="&D$3,'Leave log'!$E:$E,">="&D$3,'Leave log'!$H:$H,"Approved")>0,"X","")) | E14: =IF(OR($A14="",E$3=""),"",IF(COUNTIFS('Leave log'!$A:$A,$A14,'Leave log'!$D:$D,"<="&E$3,'Leave log'!$E:$E,">="&E$3,'Leave log'!$H:$H,"Approved")>0,"X","")) | F14: =IF(OR($A14="",F$3=""),"",IF(COUNTIFS('Leave log'!$A:$A,$A14,'Leave log'!$D:$D,"<="&F$3,'Leave log'!$E:$E,">="&F$3,'Leave log'!$H:$H,"Approved")>0,"X","")) | G14: =IF(OR($A14="",G$3=""),"",IF(COUNTIFS('Leave log'!$A:$A,$A14,'Leave log'!$D:$D,"<="&G$3,'Leave log'!$E:$E,">="&G$3,'Leave log'!$H:$H,"Approved")>0,"X","")) | H14: =IF(OR($A14="",H$3=""),"",IF(COUNTIFS('Leave log'!$A:$A,$A14,'Leave log'!$D:$D,"<="&H$3,'Leave log'!$E:$E,">="&H$3,'Leave log'!$H:$H,"Approved")>0,"X","")) | I14: =IF(OR($A14="",I$3=""),"",IF(COUNTIFS('Leave log'!$A:$A,$A14,'Leave log'!$D:$D,"<="&I$3,'Leave log'!$E:$E,">="&I$3,'Leave log'!$H:$H,"Approved")>0,"X","")) | ... AF14: =IF(OR($A14="",AF$3=""),"",IF(COUNTIFS('Leave log'!$A:$A,$A14,'Leave log'!$D:$D,"<="&AF$3,'Leave log'!$E:$E,">="&AF$3,'Leave log'!$H:$H,"Approved")>0,"X",""))
A15: =IF(Balances!A13="","",Balances!A13) | B15: =IF(OR($A15="",B$3=""),"",IF(COUNTIFS('Leave log'!$A:$A,$A15,'Leave log'!$D:$D,"<="&B$3,'Leave log'!$E:$E,">="&B$3,'Leave log'!$H:$H,"Approved")>0,"X","")) | C15: =IF(OR($A15="",C$3=""),"",IF(COUNTIFS('Leave log'!$A:$A,$A15,'Leave log'!$D:$D,"<="&C$3,'Leave log'!$E:$E,">="&C$3,'Leave log'!$H:$H,"Approved")>0,"X","")) | D15: =IF(OR($A15="",D$3=""),"",IF(COUNTIFS('Leave log'!$A:$A,$A15,'Leave log'!$D:$D,"<="&D$3,'Leave log'!$E:$E,">="&D$3,'Leave log'!$H:$H,"Approved")>0,"X","")) | E15: =IF(OR($A15="",E$3=""),"",IF(COUNTIFS('Leave log'!$A:$A,$A15,'Leave log'!$D:$D,"<="&E$3,'Leave log'!$E:$E,">="&E$3,'Leave log'!$H:$H,"Approved")>0,"X","")) | F15: =IF(OR($A15="",F$3=""),"",IF(COUNTIFS('Leave log'!$A:$A,$A15,'Leave log'!$D:$D,"<="&F$3,'Leave log'!$E:$E,">="&F$3,'Leave log'!$H:$H,"Approved")>0,"X","")) | G15: =IF(OR($A15="",G$3=""),"",IF(COUNTIFS('Leave log'!$A:$A,$A15,'Leave log'!$D:$D,"<="&G$3,'Leave log'!$E:$E,">="&G$3,'Leave log'!$H:$H,"Approved")>0,"X","")) | H15: =IF(OR($A15="",H$3=""),"",IF(COUNTIFS('Leave log'!$A:$A,$A15,'Leave log'!$D:$D,"<="&H$3,'Leave log'!$E:$E,">="&H$3,'Leave log'!$H:$H,"Approved")>0,"X","")) | I15: =IF(OR($A15="",I$3=""),"",IF(COUNTIFS('Leave log'!$A:$A,$A15,'Leave log'!$D:$D,"<="&I$3,'Leave log'!$E:$E,">="&I$3,'Leave log'!$H:$H,"Approved")>0,"X","")) | ... AF15: =IF(OR($A15="",AF$3=""),"",IF(COUNTIFS('Leave log'!$A:$A,$A15,'Leave log'!$D:$D,"<="&AF$3,'Leave log'!$E:$E,">="&AF$3,'Leave log'!$H:$H,"Approved")>0,"X",""))
... A53: =IF(Balances!A51="","",Balances!A51) | B53: =IF(OR($A53="",B$3=""),"",IF(COUNTIFS('Leave log'!$A:$A,$A53,'Leave log'!$D:$D,"<="&B$3,'Leave log'!$E:$E,">="&B$3,'Leave log'!$H:$H,"Approved")>0,"X","")) | C53: =IF(OR($A53="",C$3=""),"",IF(COUNTIFS('Leave log'!$A:$A,$A53,'Leave log'!$D:$D,"<="&C$3,'Leave log'!$E:$E,">="&C$3,'Leave log'!$H:$H,"Approved")>0,"X","")) | D53: =IF(OR($A53="",D$3=""),"",IF(COUNTIFS('Leave log'!$A:$A,$A53,'Leave log'!$D:$D,"<="&D$3,'Leave log'!$E:$E,">="&D$3,'Leave log'!$H:$H,"Approved")>0,"X","")) | E53: =IF(OR($A53="",E$3=""),"",IF(COUNTIFS('Leave log'!$A:$A,$A53,'Leave log'!$D:$D,"<="&E$3,'Leave log'!$E:$E,">="&E$3,'Leave log'!$H:$H,"Approved")>0,"X","")) | F53: =IF(OR($A53="",F$3=""),"",IF(COUNTIFS('Leave log'!$A:$A,$A53,'Leave log'!$D:$D,"<="&F$3,'Leave log'!$E:$E,">="&F$3,'Leave log'!$H:$H,"Approved")>0,"X","")) | G53: =IF(OR($A53="",G$3=""),"",IF(COUNTIFS('Leave log'!$A:$A,$A53,'Leave log'!$D:$D,"<="&G$3,'Leave log'!$E:$E,">="&G$3,'Leave log'!$H:$H,"Approved")>0,"X","")) | H53: =IF(OR($A53="",H$3=""),"",IF(COUNTIFS('Leave log'!$A:$A,$A53,'Leave log'!$D:$D,"<="&H$3,'Leave log'!$E:$E,">="&H$3,'Leave log'!$H:$H,"Approved")>0,"X","")) | I53: =IF(OR($A53="",I$3=""),"",IF(COUNTIFS('Leave log'!$A:$A,$A53,'Leave log'!$D:$D,"<="&I$3,'Leave log'!$E:$E,">="&I$3,'Leave log'!$H:$H,"Approved")>0,"X","")) | ... AF53: =IF(OR($A53="",AF$3=""),"",IF(COUNTIFS('Leave log'!$A:$A,$A53,'Leave log'!$D:$D,"<="&AF$3,'Leave log'!$E:$E,">="&AF$3,'Leave log'!$H:$H,"Approved")>0,"X",""))

Sheet Holidays
A1: Date | B1: Holiday | D1: England and Wales bank holidays from GOV.UK. Scotland and Northern Ireland differ: replace the list with yours.
A2: 46023 | B2: New Year's Day
A3: 46115 | B3: Good Friday
A4: 46118 | B4: Easter Monday
A5: 46146 | B5: Early May bank holiday
A6: 46167 | B6: Spring bank holiday
A7: 46265 | B7: Summer bank holiday
A8: 46381 | B8: Christmas Day
A9: 46384 | B9: Boxing Day (substitute day)
A10: 46388 | B10: New Year's Day
A11: 46472 | B11: Good Friday
A12: 46475 | B12: Easter Monday
A13: 46510 | B13: Early May bank holiday
... A17: 46749 | B17: Boxing Day (substitute day)

Sheet Settings
A1: Setting | B1: Value | C1: What it does
A2: Leave year starts | B2: 46023 | C2: Balances count leave starting in the 12 months from this date. Change it to your leave year, e.g. 1 April.
A3: Weekend days | B3: 0000011 | C3: Seven digits, Monday first: 1 = not a working day. 0000011 is Saturday and Sunday off; 0000110 is Friday and Saturday.

Sheet Lists
A1: Leave types | B1: Status | C1: Half day?
A2: Annual leave | B2: Pending | C2: No
A3: Sick leave | B3: Approved | C3: Yes
A4: Unpaid leave | B4: Declined
A5: Other
